BEGIN:VCALENDAR
VERSION:2.0
PRODID:-//Female Voice des BDKV - ECPv6.11.2.1//NONSGML v1.0//EN
CALSCALE:GREGORIAN
METHOD:PUBLISH
X-WR-CALNAME:Female Voice des BDKV
X-ORIGINAL-URL:https://female-voice.bdkv.de
X-WR-CALDESC:Veranstaltungen für Female Voice des BDKV
REFRESH-INTERVAL;VALUE=DURATION:PT1H
X-Robots-Tag:noindex
X-PUBLISHED-TTL:PT1H
BEGIN:VTIMEZONE
TZID:Europe/Berlin
BEGIN:DAYLIGHT
TZOFFSETFROM:+0100
TZOFFSETTO:+0200
TZNAME:CEST
DTSTART:20260329T010000
END:DAYLIGHT
BEGIN:STANDARD
TZOFFSETFROM:+0200
TZOFFSETTO:+0100
TZNAME:CET
DTSTART:20261025T010000
END:STANDARD
END:VTIMEZONE
BEGIN:VEVENT
DTSTART;VALUE=DATE:20261101
DTEND;VALUE=DATE:20261102
DTSTAMP:20260422T131338
CREATED:20260305T103514Z
LAST-MODIFIED:20260305T103541Z
UID:38053-1793491200-1793577599@female-voice.bdkv.de
SUMMARY:Female Voice Networking am Vorabend der Comedy Future Convention
DESCRIPTION:
URL:https://female-voice.bdkv.de/event/female-voice-networking-am-vorabend-der-comedy-future-convention/
LOCATION:Teams-Meeting
END:VEVENT
END:VCALENDAR