BEGIN:VCALENDAR
VERSION:2.0
PRODID:-//Female Voice des BDKV - ECPv6.11.2.1//NONSGML v1.0//EN
CALSCALE:GREGORIAN
METHOD:PUBLISH
X-ORIGINAL-URL:https://female-voice.bdkv.de
X-WR-CALDESC:Veranstaltungen für Female Voice des BDKV
REFRESH-INTERVAL;VALUE=DURATION:PT1H
X-Robots-Tag:noindex
X-PUBLISHED-TTL:PT1H
BEGIN:VTIMEZONE
TZID:Europe/Berlin
BEGIN:DAYLIGHT
TZOFFSETFROM:+0100
TZOFFSETTO:+0200
TZNAME:CEST
DTSTART:20250330T010000
END:DAYLIGHT
BEGIN:STANDARD
TZOFFSETFROM:+0200
TZOFFSETTO:+0100
TZNAME:CET
DTSTART:20251026T010000
END:STANDARD
END:VTIMEZONE
BEGIN:VEVENT
DTSTART;TZID=Europe/Berlin:20250604T100000
DTEND;TZID=Europe/Berlin:20250605T120000
DTSTAMP:20260421T035212
CREATED:20250512T123316Z
LAST-MODIFIED:20250512T125559Z
UID:37908-1749031200-1749124800@female-voice.bdkv.de
SUMMARY:Female Voice Workshop „Boost your impact“
DESCRIPTION:
URL:https://female-voice.bdkv.de/event/female-voice-workshop-boost-your-impact/
LOCATION:bigBOX ALLGÄU\, Kotterner Str. 62 – 64\, 87435 Kempten (Allgäu)
END:VEVENT
END:VCALENDAR