BEGIN:VCALENDAR
VERSION:2.0
PRODID:-//Female Voice des BDKV - ECPv6.11.2.1//NONSGML v1.0//EN
CALSCALE:GREGORIAN
METHOD:PUBLISH
X-ORIGINAL-URL:https://female-voice.bdkv.de
X-WR-CALDESC:Veranstaltungen für Female Voice des BDKV
REFRESH-INTERVAL;VALUE=DURATION:PT1H
X-Robots-Tag:noindex
X-PUBLISHED-TTL:PT1H
BEGIN:VTIMEZONE
TZID:Europe/Berlin
BEGIN:DAYLIGHT
TZOFFSETFROM:+0100
TZOFFSETTO:+0200
TZNAME:CEST
DTSTART:20250330T010000
END:DAYLIGHT
BEGIN:STANDARD
TZOFFSETFROM:+0200
TZOFFSETTO:+0100
TZNAME:CET
DTSTART:20251026T010000
END:STANDARD
END:VTIMEZONE
BEGIN:VEVENT
DTSTART;TZID=Europe/Berlin:20250429T120000
DTEND;TZID=Europe/Berlin:20250429T130000
DTSTAMP:20260423T104447
CREATED:20250417T141417Z
LAST-MODIFIED:20250417T142645Z
UID:37835-1745928000-1745931600@female-voice.bdkv.de
SUMMARY:Female Voice Teams Call
DESCRIPTION:
URL:https://female-voice.bdkv.de/event/female-voice-teams-call/
LOCATION:https://teams.live.com/meet/933362897342?p=VGq8uaK5wbwGKOwTWL
END:VEVENT
END:VCALENDAR