BEGIN:VCALENDAR
VERSION:2.0
PRODID:-//Female Voice des BDKV - ECPv6.11.2.1//NONSGML v1.0//EN
CALSCALE:GREGORIAN
METHOD:PUBLISH
X-ORIGINAL-URL:https://female-voice.bdkv.de
X-WR-CALDESC:Veranstaltungen für Female Voice des BDKV
REFRESH-INTERVAL;VALUE=DURATION:PT1H
X-Robots-Tag:noindex
X-PUBLISHED-TTL:PT1H
BEGIN:VTIMEZONE
TZID:Europe/Berlin
BEGIN:DAYLIGHT
TZOFFSETFROM:+0100
TZOFFSETTO:+0200
TZNAME:CEST
DTSTART:20250330T010000
END:DAYLIGHT
BEGIN:STANDARD
TZOFFSETFROM:+0200
TZOFFSETTO:+0100
TZNAME:CET
DTSTART:20251026T010000
END:STANDARD
END:VTIMEZONE
BEGIN:VEVENT
DTSTART;TZID=Europe/Berlin:20250916T190000
DTEND;TZID=Europe/Berlin:20250916T210000
DTSTAMP:20260421T015058
CREATED:20250417T142519Z
LAST-MODIFIED:20250708T085017Z
UID:37838-1758049200-1758056400@female-voice.bdkv.de
SUMMARY:Female Voice Treffen auf dem Reeperbahn Festival 2025
DESCRIPTION:
URL:https://female-voice.bdkv.de/event/female-voice-treffen-auf-dem-reeperbahnfestival-2025/
LOCATION:a.s.s. concerts & promotion GmbH\, Kleine Seilerstraße 1\, 20359 Hamburg
END:VEVENT
END:VCALENDAR